BEGIN:VCALENDAR
VERSION:2.0
PRODID:-//eventon.com NONSGML v1.0//EN
CALSCALE:GREGORIAN
METHOD:PUBLISH
BEGIN:VEVENT
UID:69e4dae56b5b9
DTSTAMP:20260419T133845Z
DTSTART:19700101
DTEND:19700102
LOCATION:Vernon Downs Casino 4229 Stuhlman Road\,  Vernon\,  New York 13476
SUMMARY:NEW MEMBERS: FIRST $100 ON US!
DESCRIPTION:Sign up today and become a member of our Rewards Club. We will 
 match your losses on your first day of joining.* *Its our No Loss Guarantee
 . Match not to exceed $100. Offers will be mailed after New Member sign up.
  Offers may vary. See Rewards Club for complete details[..]\nhttps://vernon
 downs.com/our-events/new-members/
URL:https://vernondowns.com/our-events/new-members/
END:VEVENT
END:VCALENDAR